BEGIN:VCALENDAR
VERSION:2.0
PRODID:-//Yakima &amp; Selah Neighbors&#039; Network - ECPv5.16.4//NONSGML v1.0//EN
CALSCALE:GREGORIAN
METHOD:PUBLISH
X-ORIGINAL-URL:https://yesneighbors.org
X-WR-CALDESC:Events for Yakima &amp; Selah Neighbors&#039; Network
REFRESH-INTERVAL;VALUE=DURATION:PT1H
X-Robots-Tag:noindex
X-PUBLISHED-TTL:PT1H
BEGIN:VTIMEZONE
TZID:America/Los_Angeles
BEGIN:DAYLIGHT
TZOFFSETFROM:-0800
TZOFFSETTO:-0700
TZNAME:PDT
DTSTART:20250309T100000
END:DAYLIGHT
BEGIN:STANDARD
TZOFFSETFROM:-0700
TZOFFSETTO:-0800
TZNAME:PST
DTSTART:20251102T090000
END:STANDARD
END:VTIMEZONE
BEGIN:VEVENT
DTSTART;TZID=America/Los_Angeles:20251202T093000
DTEND;TZID=America/Los_Angeles:20251202T103000
DTSTAMP:20260422T154720
CREATED:20240709T173710Z
LAST-MODIFIED:20240709T173710Z
UID:6125-1764667800-1764671400@yesneighbors.org
SUMMARY:Coffee and Conversation via zoom. Member\, Volunteer and Donor Interest Group
DESCRIPTION:Join us for Coffee and Conversation on Tuesday’s at NEW TIME 9:30 via zoom. Email with link will be sent on Monday’s. For more information and to join a YSNN interest group\, contact Chrissy Schott\, Program Manager at 509-853-1917
URL:https://yesneighbors.org/event/coffee-and-conversation-via-zoom-on-tuesdays-at-9am-2/2025-12-02/
END:VEVENT
BEGIN:VEVENT
DTSTART;TZID=America/Los_Angeles:20251208T100000
DTEND;TZID=America/Los_Angeles:20251208T120000
DTSTAMP:20260422T154720
CREATED:20250205T212746Z
LAST-MODIFIED:20250205T212746Z
UID:6328-1765188000-1765195200@yesneighbors.org
SUMMARY:YSNN Board meeting. Member\, Volunteer and Donor
DESCRIPTION:
URL:https://yesneighbors.org/event/ysnn-board-meeting-4/2025-12-08/
END:VEVENT
BEGIN:VEVENT
DTSTART;TZID=America/Los_Angeles:20251209T093000
DTEND;TZID=America/Los_Angeles:20251209T103000
DTSTAMP:20260422T154720
CREATED:20240709T173710Z
LAST-MODIFIED:20240709T173710Z
UID:6126-1765272600-1765276200@yesneighbors.org
SUMMARY:Coffee and Conversation via zoom. Member\, Volunteer and Donor Interest Group
DESCRIPTION:Join us for Coffee and Conversation on Tuesday’s at NEW TIME 9:30 via zoom. Email with link will be sent on Monday’s. For more information and to join a YSNN interest group\, contact Chrissy Schott\, Program Manager at 509-853-1917
URL:https://yesneighbors.org/event/coffee-and-conversation-via-zoom-on-tuesdays-at-9am-2/2025-12-09/
END:VEVENT
BEGIN:VEVENT
DTSTART;VALUE=DATE:20251215
DTEND;VALUE=DATE:20251216
DTSTAMP:20260422T154720
CREATED:20251030T223422Z
LAST-MODIFIED:20251030T223422Z
UID:6856-1765756800-1765843199@yesneighbors.org
SUMMARY:Hannukkah (1st day)
DESCRIPTION:
URL:https://yesneighbors.org/event/hannukkah-1st-day/
END:VEVENT
BEGIN:VEVENT
DTSTART;TZID=America/Los_Angeles:20251223T093000
DTEND;TZID=America/Los_Angeles:20251223T103000
DTSTAMP:20260422T154720
CREATED:20240709T173710Z
LAST-MODIFIED:20240709T173710Z
UID:6128-1766482200-1766485800@yesneighbors.org
SUMMARY:Coffee and Conversation via zoom. Member\, Volunteer and Donor Interest Group
DESCRIPTION:Join us for Coffee and Conversation on Tuesday’s at NEW TIME 9:30 via zoom. Email with link will be sent on Monday’s. For more information and to join a YSNN interest group\, contact Chrissy Schott\, Program Manager at 509-853-1917
URL:https://yesneighbors.org/event/coffee-and-conversation-via-zoom-on-tuesdays-at-9am-2/2025-12-23/
END:VEVENT
BEGIN:VEVENT
DTSTART;VALUE=DATE:20251225
DTEND;VALUE=DATE:20251226
DTSTAMP:20260422T154720
CREATED:20251030T223118Z
LAST-MODIFIED:20251030T223208Z
UID:6852-1766620800-1766707199@yesneighbors.org
SUMMARY:Christmas Day (closed)
DESCRIPTION:
URL:https://yesneighbors.org/event/christmas-day-closed/
END:VEVENT
BEGIN:VEVENT
DTSTART;VALUE=DATE:20251226
DTEND;VALUE=DATE:20251227
DTSTAMP:20260422T154720
CREATED:20251030T223307Z
LAST-MODIFIED:20251030T223626Z
UID:6854-1766707200-1766793599@yesneighbors.org
SUMMARY:No Walking Group
DESCRIPTION:
URL:https://yesneighbors.org/event/no-walking-group/
END:VEVENT
END:VCALENDAR