BEGIN:VCALENDAR
VERSION:2.0
PRODID:-//Yakima &amp; Selah Neighbors&#039; Network - ECPv5.16.4//NONSGML v1.0//EN
CALSCALE:GREGORIAN
METHOD:PUBLISH
X-WR-CALNAME:Yakima &amp; Selah Neighbors&#039; Network
X-ORIGINAL-URL:https://yesneighbors.org
X-WR-CALDESC:Events for Yakima &amp; Selah Neighbors&#039; Network
REFRESH-INTERVAL;VALUE=DURATION:PT1H
X-Robots-Tag:noindex
X-PUBLISHED-TTL:PT1H
BEGIN:VTIMEZONE
TZID:America/Los_Angeles
BEGIN:DAYLIGHT
TZOFFSETFROM:-0800
TZOFFSETTO:-0700
TZNAME:PDT
DTSTART:20260308T100000
END:DAYLIGHT
BEGIN:STANDARD
TZOFFSETFROM:-0700
TZOFFSETTO:-0800
TZNAME:PST
DTSTART:20261101T090000
END:STANDARD
END:VTIMEZONE
BEGIN:VEVENT
DTSTART;TZID=America/Los_Angeles:20260402T100000
DTEND;TZID=America/Los_Angeles:20260402T110000
DTSTAMP:20260422T084045
CREATED:20241230T015358Z
LAST-MODIFIED:20260127T195303Z
UID:7115-1775124000-1775127600@yesneighbors.org
SUMMARY:Another Cup- Join us first Thursday of each month! Open to ALL!
DESCRIPTION:Join us for Another Cup on the first Thursday of each month at 10am. \nCatalyst Coffee at Single Hill Brewery 102 N Naches
URL:https://yesneighbors.org/event/another-cup-join-us-first-thursday-of-each-month/2026-04-02/
END:VEVENT
END:VCALENDAR