BEGIN:VCALENDAR
VERSION:2.0
PRODID:-//Yakima &amp; Selah Neighbors&#039; Network - ECPv5.16.4//NONSGML v1.0//EN
CALSCALE:GREGORIAN
METHOD:PUBLISH
X-WR-CALNAME:Yakima &amp; Selah Neighbors&#039; Network
X-ORIGINAL-URL:https://yesneighbors.org
X-WR-CALDESC:Events for Yakima &amp; Selah Neighbors&#039; Network
REFRESH-INTERVAL;VALUE=DURATION:PT1H
X-Robots-Tag:noindex
X-PUBLISHED-TTL:PT1H
BEGIN:VTIMEZONE
TZID:America/Los_Angeles
BEGIN:DAYLIGHT
TZOFFSETFROM:-0800
TZOFFSETTO:-0700
TZNAME:PDT
DTSTART:20260308T100000
END:DAYLIGHT
BEGIN:STANDARD
TZOFFSETFROM:-0700
TZOFFSETTO:-0800
TZNAME:PST
DTSTART:20261101T090000
END:STANDARD
END:VTIMEZONE
BEGIN:VEVENT
DTSTART;TZID=America/Los_Angeles:20261012T090000
DTEND;TZID=America/Los_Angeles:20261012T213000
DTSTAMP:20260422T141800
CREATED:20240614T194857Z
LAST-MODIFIED:20240614T194857Z
UID:6982-1791795600-1791840600@yesneighbors.org
SUMMARY:YSNN led Balance Class via zoom. *must be pre-approved by instructor. Member\, Volunteer and Donor Interest Group
DESCRIPTION:Balance Class via zoom\, Mondays 9am*must be pre-approved by instructor. Member\, Volunteer and Donor Interest Group.This class offers a practical and fun approach to building our balance stamina while we go at our own pace. For more information and to join a YSNN interest group\, contact Chrissy Schott\, Program Manager at 509-853-1917
URL:https://yesneighbors.org/event/ysnn-led-balance-class-via-zoom/2026-10-12/
END:VEVENT
BEGIN:VEVENT
DTSTART;TZID=America/Los_Angeles:20261019T090000
DTEND;TZID=America/Los_Angeles:20261019T213000
DTSTAMP:20260422T141800
CREATED:20240614T194857Z
LAST-MODIFIED:20240614T194857Z
UID:6983-1792400400-1792445400@yesneighbors.org
SUMMARY:YSNN led Balance Class via zoom. *must be pre-approved by instructor. Member\, Volunteer and Donor Interest Group
DESCRIPTION:Balance Class via zoom\, Mondays 9am*must be pre-approved by instructor. Member\, Volunteer and Donor Interest Group.This class offers a practical and fun approach to building our balance stamina while we go at our own pace. For more information and to join a YSNN interest group\, contact Chrissy Schott\, Program Manager at 509-853-1917
URL:https://yesneighbors.org/event/ysnn-led-balance-class-via-zoom/2026-10-19/
END:VEVENT
BEGIN:VEVENT
DTSTART;TZID=America/Los_Angeles:20261026T090000
DTEND;TZID=America/Los_Angeles:20261026T213000
DTSTAMP:20260422T141800
CREATED:20240614T194857Z
LAST-MODIFIED:20240614T194857Z
UID:6984-1793005200-1793050200@yesneighbors.org
SUMMARY:YSNN led Balance Class via zoom. *must be pre-approved by instructor. Member\, Volunteer and Donor Interest Group
DESCRIPTION:Balance Class via zoom\, Mondays 9am*must be pre-approved by instructor. Member\, Volunteer and Donor Interest Group.This class offers a practical and fun approach to building our balance stamina while we go at our own pace. For more information and to join a YSNN interest group\, contact Chrissy Schott\, Program Manager at 509-853-1917
URL:https://yesneighbors.org/event/ysnn-led-balance-class-via-zoom/2026-10-26/
END:VEVENT
BEGIN:VEVENT
DTSTART;TZID=America/Los_Angeles:20261102T090000
DTEND;TZID=America/Los_Angeles:20261102T213000
DTSTAMP:20260422T141800
CREATED:20240614T194857Z
LAST-MODIFIED:20240614T194857Z
UID:6985-1793610000-1793655000@yesneighbors.org
SUMMARY:YSNN led Balance Class via zoom. *must be pre-approved by instructor. Member\, Volunteer and Donor Interest Group
DESCRIPTION:Balance Class via zoom\, Mondays 9am*must be pre-approved by instructor. Member\, Volunteer and Donor Interest Group.This class offers a practical and fun approach to building our balance stamina while we go at our own pace. For more information and to join a YSNN interest group\, contact Chrissy Schott\, Program Manager at 509-853-1917
URL:https://yesneighbors.org/event/ysnn-led-balance-class-via-zoom/2026-11-02/
END:VEVENT
BEGIN:VEVENT
DTSTART;TZID=America/Los_Angeles:20261109T090000
DTEND;TZID=America/Los_Angeles:20261109T213000
DTSTAMP:20260422T141800
CREATED:20240614T194857Z
LAST-MODIFIED:20240614T194857Z
UID:6986-1794214800-1794259800@yesneighbors.org
SUMMARY:YSNN led Balance Class via zoom. *must be pre-approved by instructor. Member\, Volunteer and Donor Interest Group
DESCRIPTION:Balance Class via zoom\, Mondays 9am*must be pre-approved by instructor. Member\, Volunteer and Donor Interest Group.This class offers a practical and fun approach to building our balance stamina while we go at our own pace. For more information and to join a YSNN interest group\, contact Chrissy Schott\, Program Manager at 509-853-1917
URL:https://yesneighbors.org/event/ysnn-led-balance-class-via-zoom/2026-11-09/
END:VEVENT
BEGIN:VEVENT
DTSTART;TZID=America/Los_Angeles:20261116T090000
DTEND;TZID=America/Los_Angeles:20261116T213000
DTSTAMP:20260422T141800
CREATED:20240614T194857Z
LAST-MODIFIED:20240614T194857Z
UID:6987-1794819600-1794864600@yesneighbors.org
SUMMARY:YSNN led Balance Class via zoom. *must be pre-approved by instructor. Member\, Volunteer and Donor Interest Group
DESCRIPTION:Balance Class via zoom\, Mondays 9am*must be pre-approved by instructor. Member\, Volunteer and Donor Interest Group.This class offers a practical and fun approach to building our balance stamina while we go at our own pace. For more information and to join a YSNN interest group\, contact Chrissy Schott\, Program Manager at 509-853-1917
URL:https://yesneighbors.org/event/ysnn-led-balance-class-via-zoom/2026-11-16/
END:VEVENT
BEGIN:VEVENT
DTSTART;TZID=America/Los_Angeles:20261123T090000
DTEND;TZID=America/Los_Angeles:20261123T213000
DTSTAMP:20260422T141800
CREATED:20240614T194857Z
LAST-MODIFIED:20240614T194857Z
UID:6988-1795424400-1795469400@yesneighbors.org
SUMMARY:YSNN led Balance Class via zoom. *must be pre-approved by instructor. Member\, Volunteer and Donor Interest Group
DESCRIPTION:Balance Class via zoom\, Mondays 9am*must be pre-approved by instructor. Member\, Volunteer and Donor Interest Group.This class offers a practical and fun approach to building our balance stamina while we go at our own pace. For more information and to join a YSNN interest group\, contact Chrissy Schott\, Program Manager at 509-853-1917
URL:https://yesneighbors.org/event/ysnn-led-balance-class-via-zoom/2026-11-23/
END:VEVENT
BEGIN:VEVENT
DTSTART;TZID=America/Los_Angeles:20261130T090000
DTEND;TZID=America/Los_Angeles:20261130T213000
DTSTAMP:20260422T141800
CREATED:20240614T194857Z
LAST-MODIFIED:20240614T194857Z
UID:6989-1796029200-1796074200@yesneighbors.org
SUMMARY:YSNN led Balance Class via zoom. *must be pre-approved by instructor. Member\, Volunteer and Donor Interest Group
DESCRIPTION:Balance Class via zoom\, Mondays 9am*must be pre-approved by instructor. Member\, Volunteer and Donor Interest Group.This class offers a practical and fun approach to building our balance stamina while we go at our own pace. For more information and to join a YSNN interest group\, contact Chrissy Schott\, Program Manager at 509-853-1917
URL:https://yesneighbors.org/event/ysnn-led-balance-class-via-zoom/2026-11-30/
END:VEVENT
BEGIN:VEVENT
DTSTART;TZID=America/Los_Angeles:20261207T090000
DTEND;TZID=America/Los_Angeles:20261207T213000
DTSTAMP:20260422T141800
CREATED:20240614T194857Z
LAST-MODIFIED:20240614T194857Z
UID:6990-1796634000-1796679000@yesneighbors.org
SUMMARY:YSNN led Balance Class via zoom. *must be pre-approved by instructor. Member\, Volunteer and Donor Interest Group
DESCRIPTION:Balance Class via zoom\, Mondays 9am*must be pre-approved by instructor. Member\, Volunteer and Donor Interest Group.This class offers a practical and fun approach to building our balance stamina while we go at our own pace. For more information and to join a YSNN interest group\, contact Chrissy Schott\, Program Manager at 509-853-1917
URL:https://yesneighbors.org/event/ysnn-led-balance-class-via-zoom/2026-12-07/
END:VEVENT
BEGIN:VEVENT
DTSTART;TZID=America/Los_Angeles:20261214T090000
DTEND;TZID=America/Los_Angeles:20261214T213000
DTSTAMP:20260422T141800
CREATED:20240614T194857Z
LAST-MODIFIED:20240614T194857Z
UID:6991-1797238800-1797283800@yesneighbors.org
SUMMARY:YSNN led Balance Class via zoom. *must be pre-approved by instructor. Member\, Volunteer and Donor Interest Group
DESCRIPTION:Balance Class via zoom\, Mondays 9am*must be pre-approved by instructor. Member\, Volunteer and Donor Interest Group.This class offers a practical and fun approach to building our balance stamina while we go at our own pace. For more information and to join a YSNN interest group\, contact Chrissy Schott\, Program Manager at 509-853-1917
URL:https://yesneighbors.org/event/ysnn-led-balance-class-via-zoom/2026-12-14/
END:VEVENT
BEGIN:VEVENT
DTSTART;TZID=America/Los_Angeles:20261221T090000
DTEND;TZID=America/Los_Angeles:20261221T213000
DTSTAMP:20260422T141800
CREATED:20240614T194857Z
LAST-MODIFIED:20240614T194857Z
UID:6992-1797843600-1797888600@yesneighbors.org
SUMMARY:YSNN led Balance Class via zoom. *must be pre-approved by instructor. Member\, Volunteer and Donor Interest Group
DESCRIPTION:Balance Class via zoom\, Mondays 9am*must be pre-approved by instructor. Member\, Volunteer and Donor Interest Group.This class offers a practical and fun approach to building our balance stamina while we go at our own pace. For more information and to join a YSNN interest group\, contact Chrissy Schott\, Program Manager at 509-853-1917
URL:https://yesneighbors.org/event/ysnn-led-balance-class-via-zoom/2026-12-21/
END:VEVENT
BEGIN:VEVENT
DTSTART;TZID=America/Los_Angeles:20261228T090000
DTEND;TZID=America/Los_Angeles:20261228T213000
DTSTAMP:20260422T141800
CREATED:20240614T194857Z
LAST-MODIFIED:20240614T194857Z
UID:6993-1798448400-1798493400@yesneighbors.org
SUMMARY:YSNN led Balance Class via zoom. *must be pre-approved by instructor. Member\, Volunteer and Donor Interest Group
DESCRIPTION:Balance Class via zoom\, Mondays 9am*must be pre-approved by instructor. Member\, Volunteer and Donor Interest Group.This class offers a practical and fun approach to building our balance stamina while we go at our own pace. For more information and to join a YSNN interest group\, contact Chrissy Schott\, Program Manager at 509-853-1917
URL:https://yesneighbors.org/event/ysnn-led-balance-class-via-zoom/2026-12-28/
END:VEVENT
END:VCALENDAR