BEGIN:VCALENDAR
VERSION:2.0
PRODID:-//Yakima &amp; Selah Neighbors&#039; Network - ECPv5.16.4//NONSGML v1.0//EN
CALSCALE:GREGORIAN
METHOD:PUBLISH
X-WR-CALNAME:Yakima &amp; Selah Neighbors&#039; Network
X-ORIGINAL-URL:https://yesneighbors.org
X-WR-CALDESC:Events for Yakima &amp; Selah Neighbors&#039; Network
REFRESH-INTERVAL;VALUE=DURATION:PT1H
X-Robots-Tag:noindex
X-PUBLISHED-TTL:PT1H
BEGIN:VTIMEZONE
TZID:America/Los_Angeles
BEGIN:DAYLIGHT
TZOFFSETFROM:-0800
TZOFFSETTO:-0700
TZNAME:PDT
DTSTART:20260308T100000
END:DAYLIGHT
BEGIN:STANDARD
TZOFFSETFROM:-0700
TZOFFSETTO:-0800
TZNAME:PST
DTSTART:20261101T090000
END:STANDARD
END:VTIMEZONE
BEGIN:VEVENT
DTSTART;TZID=America/Los_Angeles:20261006T093000
DTEND;TZID=America/Los_Angeles:20261006T103000
DTSTAMP:20260419T053221
CREATED:20260108T204308Z
LAST-MODIFIED:20260108T204308Z
UID:7048-1791279000-1791282600@yesneighbors.org
SUMMARY:Coffee and Conversation via Zoom
DESCRIPTION:Tuesday’s at 9:30AM via zoom \nCoffee and Conversation \n\n\n\n\n\n\n\n\n\n\n\n\n\n\n\nhttps://us02web.zoom.us/j/84908809150?pwd=jpxVLIcAbvdMPHGUaRy1oaa9wRGrLm.1\n\n\nMeeting ID\n849 0880 9150\nPasscode \n790757
URL:https://yesneighbors.org/event/coffee-and-conversation-via-zoom-2/2026-10-06/
END:VEVENT
BEGIN:VEVENT
DTSTART;TZID=America/Los_Angeles:20261013T093000
DTEND;TZID=America/Los_Angeles:20261013T103000
DTSTAMP:20260419T053221
CREATED:20260108T204308Z
LAST-MODIFIED:20260108T204308Z
UID:7049-1791883800-1791887400@yesneighbors.org
SUMMARY:Coffee and Conversation via Zoom
DESCRIPTION:Tuesday’s at 9:30AM via zoom \nCoffee and Conversation \n\n\n\n\n\n\n\n\n\n\n\n\n\n\n\nhttps://us02web.zoom.us/j/84908809150?pwd=jpxVLIcAbvdMPHGUaRy1oaa9wRGrLm.1\n\n\nMeeting ID\n849 0880 9150\nPasscode \n790757
URL:https://yesneighbors.org/event/coffee-and-conversation-via-zoom-2/2026-10-13/
END:VEVENT
BEGIN:VEVENT
DTSTART;TZID=America/Los_Angeles:20261020T093000
DTEND;TZID=America/Los_Angeles:20261020T103000
DTSTAMP:20260419T053221
CREATED:20260108T204308Z
LAST-MODIFIED:20260108T204308Z
UID:7050-1792488600-1792492200@yesneighbors.org
SUMMARY:Coffee and Conversation via Zoom
DESCRIPTION:Tuesday’s at 9:30AM via zoom \nCoffee and Conversation \n\n\n\n\n\n\n\n\n\n\n\n\n\n\n\nhttps://us02web.zoom.us/j/84908809150?pwd=jpxVLIcAbvdMPHGUaRy1oaa9wRGrLm.1\n\n\nMeeting ID\n849 0880 9150\nPasscode \n790757
URL:https://yesneighbors.org/event/coffee-and-conversation-via-zoom-2/2026-10-20/
END:VEVENT
BEGIN:VEVENT
DTSTART;TZID=America/Los_Angeles:20261027T093000
DTEND;TZID=America/Los_Angeles:20261027T103000
DTSTAMP:20260419T053221
CREATED:20260108T204308Z
LAST-MODIFIED:20260108T204308Z
UID:7051-1793093400-1793097000@yesneighbors.org
SUMMARY:Coffee and Conversation via Zoom
DESCRIPTION:Tuesday’s at 9:30AM via zoom \nCoffee and Conversation \n\n\n\n\n\n\n\n\n\n\n\n\n\n\n\nhttps://us02web.zoom.us/j/84908809150?pwd=jpxVLIcAbvdMPHGUaRy1oaa9wRGrLm.1\n\n\nMeeting ID\n849 0880 9150\nPasscode \n790757
URL:https://yesneighbors.org/event/coffee-and-conversation-via-zoom-2/2026-10-27/
END:VEVENT
BEGIN:VEVENT
DTSTART;TZID=America/Los_Angeles:20261103T093000
DTEND;TZID=America/Los_Angeles:20261103T103000
DTSTAMP:20260419T053221
CREATED:20260108T204308Z
LAST-MODIFIED:20260108T204308Z
UID:7052-1793698200-1793701800@yesneighbors.org
SUMMARY:Coffee and Conversation via Zoom
DESCRIPTION:Tuesday’s at 9:30AM via zoom \nCoffee and Conversation \n\n\n\n\n\n\n\n\n\n\n\n\n\n\n\nhttps://us02web.zoom.us/j/84908809150?pwd=jpxVLIcAbvdMPHGUaRy1oaa9wRGrLm.1\n\n\nMeeting ID\n849 0880 9150\nPasscode \n790757
URL:https://yesneighbors.org/event/coffee-and-conversation-via-zoom-2/2026-11-03/
END:VEVENT
BEGIN:VEVENT
DTSTART;TZID=America/Los_Angeles:20261110T093000
DTEND;TZID=America/Los_Angeles:20261110T103000
DTSTAMP:20260419T053221
CREATED:20260108T204308Z
LAST-MODIFIED:20260108T204308Z
UID:7053-1794303000-1794306600@yesneighbors.org
SUMMARY:Coffee and Conversation via Zoom
DESCRIPTION:Tuesday’s at 9:30AM via zoom \nCoffee and Conversation \n\n\n\n\n\n\n\n\n\n\n\n\n\n\n\nhttps://us02web.zoom.us/j/84908809150?pwd=jpxVLIcAbvdMPHGUaRy1oaa9wRGrLm.1\n\n\nMeeting ID\n849 0880 9150\nPasscode \n790757
URL:https://yesneighbors.org/event/coffee-and-conversation-via-zoom-2/2026-11-10/
END:VEVENT
BEGIN:VEVENT
DTSTART;TZID=America/Los_Angeles:20261117T093000
DTEND;TZID=America/Los_Angeles:20261117T103000
DTSTAMP:20260419T053221
CREATED:20260108T204308Z
LAST-MODIFIED:20260108T204308Z
UID:7054-1794907800-1794911400@yesneighbors.org
SUMMARY:Coffee and Conversation via Zoom
DESCRIPTION:Tuesday’s at 9:30AM via zoom \nCoffee and Conversation \n\n\n\n\n\n\n\n\n\n\n\n\n\n\n\nhttps://us02web.zoom.us/j/84908809150?pwd=jpxVLIcAbvdMPHGUaRy1oaa9wRGrLm.1\n\n\nMeeting ID\n849 0880 9150\nPasscode \n790757
URL:https://yesneighbors.org/event/coffee-and-conversation-via-zoom-2/2026-11-17/
END:VEVENT
BEGIN:VEVENT
DTSTART;TZID=America/Los_Angeles:20261124T093000
DTEND;TZID=America/Los_Angeles:20261124T103000
DTSTAMP:20260419T053221
CREATED:20260108T204308Z
LAST-MODIFIED:20260108T204308Z
UID:7055-1795512600-1795516200@yesneighbors.org
SUMMARY:Coffee and Conversation via Zoom
DESCRIPTION:Tuesday’s at 9:30AM via zoom \nCoffee and Conversation \n\n\n\n\n\n\n\n\n\n\n\n\n\n\n\nhttps://us02web.zoom.us/j/84908809150?pwd=jpxVLIcAbvdMPHGUaRy1oaa9wRGrLm.1\n\n\nMeeting ID\n849 0880 9150\nPasscode \n790757
URL:https://yesneighbors.org/event/coffee-and-conversation-via-zoom-2/2026-11-24/
END:VEVENT
BEGIN:VEVENT
DTSTART;TZID=America/Los_Angeles:20261201T093000
DTEND;TZID=America/Los_Angeles:20261201T103000
DTSTAMP:20260419T053221
CREATED:20260108T204308Z
LAST-MODIFIED:20260108T204308Z
UID:7056-1796117400-1796121000@yesneighbors.org
SUMMARY:Coffee and Conversation via Zoom
DESCRIPTION:Tuesday’s at 9:30AM via zoom \nCoffee and Conversation \n\n\n\n\n\n\n\n\n\n\n\n\n\n\n\nhttps://us02web.zoom.us/j/84908809150?pwd=jpxVLIcAbvdMPHGUaRy1oaa9wRGrLm.1\n\n\nMeeting ID\n849 0880 9150\nPasscode \n790757
URL:https://yesneighbors.org/event/coffee-and-conversation-via-zoom-2/2026-12-01/
END:VEVENT
BEGIN:VEVENT
DTSTART;TZID=America/Los_Angeles:20261208T093000
DTEND;TZID=America/Los_Angeles:20261208T103000
DTSTAMP:20260419T053221
CREATED:20260108T204308Z
LAST-MODIFIED:20260108T204308Z
UID:7057-1796722200-1796725800@yesneighbors.org
SUMMARY:Coffee and Conversation via Zoom
DESCRIPTION:Tuesday’s at 9:30AM via zoom \nCoffee and Conversation \n\n\n\n\n\n\n\n\n\n\n\n\n\n\n\nhttps://us02web.zoom.us/j/84908809150?pwd=jpxVLIcAbvdMPHGUaRy1oaa9wRGrLm.1\n\n\nMeeting ID\n849 0880 9150\nPasscode \n790757
URL:https://yesneighbors.org/event/coffee-and-conversation-via-zoom-2/2026-12-08/
END:VEVENT
BEGIN:VEVENT
DTSTART;TZID=America/Los_Angeles:20261215T093000
DTEND;TZID=America/Los_Angeles:20261215T103000
DTSTAMP:20260419T053221
CREATED:20260108T204308Z
LAST-MODIFIED:20260108T204308Z
UID:7058-1797327000-1797330600@yesneighbors.org
SUMMARY:Coffee and Conversation via Zoom
DESCRIPTION:Tuesday’s at 9:30AM via zoom \nCoffee and Conversation \n\n\n\n\n\n\n\n\n\n\n\n\n\n\n\nhttps://us02web.zoom.us/j/84908809150?pwd=jpxVLIcAbvdMPHGUaRy1oaa9wRGrLm.1\n\n\nMeeting ID\n849 0880 9150\nPasscode \n790757
URL:https://yesneighbors.org/event/coffee-and-conversation-via-zoom-2/2026-12-15/
END:VEVENT
BEGIN:VEVENT
DTSTART;TZID=America/Los_Angeles:20261222T093000
DTEND;TZID=America/Los_Angeles:20261222T103000
DTSTAMP:20260419T053221
CREATED:20260108T204308Z
LAST-MODIFIED:20260108T204308Z
UID:7059-1797931800-1797935400@yesneighbors.org
SUMMARY:Coffee and Conversation via Zoom
DESCRIPTION:Tuesday’s at 9:30AM via zoom \nCoffee and Conversation \n\n\n\n\n\n\n\n\n\n\n\n\n\n\n\nhttps://us02web.zoom.us/j/84908809150?pwd=jpxVLIcAbvdMPHGUaRy1oaa9wRGrLm.1\n\n\nMeeting ID\n849 0880 9150\nPasscode \n790757
URL:https://yesneighbors.org/event/coffee-and-conversation-via-zoom-2/2026-12-22/
END:VEVENT
BEGIN:VEVENT
DTSTART;TZID=America/Los_Angeles:20261229T093000
DTEND;TZID=America/Los_Angeles:20261229T103000
DTSTAMP:20260419T053221
CREATED:20260108T204308Z
LAST-MODIFIED:20260108T204308Z
UID:7060-1798536600-1798540200@yesneighbors.org
SUMMARY:Coffee and Conversation via Zoom
DESCRIPTION:Tuesday’s at 9:30AM via zoom \nCoffee and Conversation \n\n\n\n\n\n\n\n\n\n\n\n\n\n\n\nhttps://us02web.zoom.us/j/84908809150?pwd=jpxVLIcAbvdMPHGUaRy1oaa9wRGrLm.1\n\n\nMeeting ID\n849 0880 9150\nPasscode \n790757
URL:https://yesneighbors.org/event/coffee-and-conversation-via-zoom-2/2026-12-29/
END:VEVENT
END:VCALENDAR